BEGIN:VCALENDAR
VERSION:2.0
PRODID:-//San Diego Architectural Foundation - ECPv6.15.18//NONSGML v1.0//EN
CALSCALE:GREGORIAN
METHOD:PUBLISH
X-ORIGINAL-URL:https://sdarchitecture.org
X-WR-CALDESC:Events for San Diego Architectural Foundation
REFRESH-INTERVAL;VALUE=DURATION:PT1H
X-Robots-Tag:noindex
X-PUBLISHED-TTL:PT1H
BEGIN:VTIMEZONE
TZID:America/Los_Angeles
BEGIN:DAYLIGHT
TZOFFSETFROM:-0800
TZOFFSETTO:-0700
TZNAME:PDT
DTSTART:20250309T100000
END:DAYLIGHT
BEGIN:STANDARD
TZOFFSETFROM:-0700
TZOFFSETTO:-0800
TZNAME:PST
DTSTART:20251102T090000
END:STANDARD
BEGIN:DAYLIGHT
TZOFFSETFROM:-0800
TZOFFSETTO:-0700
TZNAME:PDT
DTSTART:20260308T100000
END:DAYLIGHT
BEGIN:STANDARD
TZOFFSETFROM:-0700
TZOFFSETTO:-0800
TZNAME:PST
DTSTART:20261101T090000
END:STANDARD
BEGIN:DAYLIGHT
TZOFFSETFROM:-0800
TZOFFSETTO:-0700
TZNAME:PDT
DTSTART:20270314T100000
END:DAYLIGHT
BEGIN:STANDARD
TZOFFSETFROM:-0700
TZOFFSETTO:-0800
TZNAME:PST
DTSTART:20271107T090000
END:STANDARD
END:VTIMEZONE
BEGIN:VEVENT
DTSTART;TZID=America/Los_Angeles:20260521T180000
DTEND;TZID=America/Los_Angeles:20260521T180000
DTSTAMP:20260424T072645
CREATED:20260226T054301Z
LAST-MODIFIED:20260417T195235Z
UID:13240-1779386400-1779386400@sdarchitecture.org
SUMMARY:PechaKucha Night
DESCRIPTION:PechaKucha Night (PKN) returns to San Diego on May 21 at 6:00 PM at LPA Design Studios\, with this edition’s theme: Future Nostalgia.\nJoin us for an evening of inspiring talks exploring the intersection of past and future; how memory\, culture\, and innovation shape what’s next and create lasting moments. Here are some of the featured speakers:\n\nLay Alston\, soul & wheel\nJames Armendariz\, FPBA\nSarah Beckman\, Outside The Lens\nChristian Dimeling\, Von Dimeling Studio\nRoss Majewski and Alma Padilla-Iriarte\, Artist and Exile\nRob Quigley\, Rob Wellington Quigley Architects\nAdditional speakers will be announced soon.\n\nThis will be an outdoor event\, so please bring your own chair or blanket\, as seating will be on the grass. Tilebar will be providing soft beverages and light snacks.\nPKN is a fast-paced storytelling event where creatives present 20 slides for 20 seconds each-sharing ideas\, projects\, and perspectives in a dynamic\, engaging format. In San Diego\, PechaKucha Night is officially hosted by the San Diego Architectural Foundation (SDAF)\, bringing together designers\, thinkers\, and the broader creative community.\nCome connect\, listen\, and be inspired!
URL:https://sdarchitecture.org/event/pkn-56/
LOCATION:LPA Design Studios\, 2765 Truxtun Road\, San Diego\, CA\, 92106
CATEGORIES:PechaKucha Night
ATTACH;FMTTYPE=image/png:https://sdarchitecture.org/wp-content/uploads/2026/02/PKN_Vol56_CalendarGraphic.png
END:VEVENT
BEGIN:VEVENT
DTSTART;TZID=America/Los_Angeles:20260818T180000
DTEND;TZID=America/Los_Angeles:20260818T203000
DTSTAMP:20260424T072645
CREATED:20260226T055254Z
LAST-MODIFIED:20260226T055254Z
UID:13247-1787076000-1787085000@sdarchitecture.org
SUMMARY:PechaKucha Night
DESCRIPTION:PechaKucha Night San Diego is a high-energy evening of rapid-fire storytelling\, bold ideas\, and creative inspiration. Designers\, artists\, architects\, and innovators take the stage to share their work and passions in the iconic 20×20 format—20 images\, 20 seconds each\, no pauses\, no fluff. Hosted by the San Diego Architectural Foundation\, PechaKucha Night is part presentation\, part party\, and a whole lot of fun. Come for the ideas\, stay for the community\, conversation\, and creative buzz. \nCheck back for more details once closer to the event.
URL:https://sdarchitecture.org/event/pechakucha-night-2/
LOCATION:CA
CATEGORIES:PechaKucha Night
ATTACH;FMTTYPE=image/jpeg:https://sdarchitecture.org/wp-content/uploads/2026/02/Pechakucha-scaled.jpg
END:VEVENT
BEGIN:VEVENT
DTSTART;VALUE=DATE:20261117
DTEND;VALUE=DATE:20261118
DTSTAMP:20260424T072645
CREATED:20260226T060127Z
LAST-MODIFIED:20260226T060127Z
UID:13253-1794873600-1794959999@sdarchitecture.org
SUMMARY:PechaKucha Night
DESCRIPTION:PechaKucha Night San Diego is a high-energy evening of rapid-fire storytelling\, bold ideas\, and creative inspiration. Designers\, artists\, architects\, and innovators take the stage to share their work and passions in the iconic 20×20 format—20 images\, 20 seconds each\, no pauses\, no fluff. Hosted by the San Diego Architectural Foundation\, PechaKucha Night is part presentation\, part party\, and a whole lot of fun. Come for the ideas\, stay for the community\, conversation\, and creative buzz. \nCheck back for more details once closer to the event.
URL:https://sdarchitecture.org/event/pechakucha-night-3/
LOCATION:CA
CATEGORIES:PechaKucha Night
ATTACH;FMTTYPE=image/jpeg:https://sdarchitecture.org/wp-content/uploads/2026/02/Pechakucha-scaled.jpg
END:VEVENT
END:VCALENDAR