BEGIN:VCALENDAR
VERSION:2.0
PRODID:-//San Diego Architectural Foundation - ECPv6.15.18//NONSGML v1.0//EN
CALSCALE:GREGORIAN
METHOD:PUBLISH
X-ORIGINAL-URL:https://sdarchitecture.org
X-WR-CALDESC:Events for San Diego Architectural Foundation
REFRESH-INTERVAL;VALUE=DURATION:PT1H
X-Robots-Tag:noindex
X-PUBLISHED-TTL:PT1H
BEGIN:VTIMEZONE
TZID:America/Los_Angeles
BEGIN:DAYLIGHT
TZOFFSETFROM:-0800
TZOFFSETTO:-0700
TZNAME:PDT
DTSTART:20250309T100000
END:DAYLIGHT
BEGIN:STANDARD
TZOFFSETFROM:-0700
TZOFFSETTO:-0800
TZNAME:PST
DTSTART:20251102T090000
END:STANDARD
BEGIN:DAYLIGHT
TZOFFSETFROM:-0800
TZOFFSETTO:-0700
TZNAME:PDT
DTSTART:20260308T100000
END:DAYLIGHT
BEGIN:STANDARD
TZOFFSETFROM:-0700
TZOFFSETTO:-0800
TZNAME:PST
DTSTART:20261101T090000
END:STANDARD
BEGIN:DAYLIGHT
TZOFFSETFROM:-0800
TZOFFSETTO:-0700
TZNAME:PDT
DTSTART:20270314T100000
END:DAYLIGHT
BEGIN:STANDARD
TZOFFSETFROM:-0700
TZOFFSETTO:-0800
TZNAME:PST
DTSTART:20271107T090000
END:STANDARD
END:VTIMEZONE
BEGIN:VEVENT
DTSTART;VALUE=DATE:20260924
DTEND;VALUE=DATE:20260925
DTSTAMP:20260421T065744
CREATED:20260226T055829Z
LAST-MODIFIED:20260409T190257Z
UID:13251-1790208000-1790294399@sdarchitecture.org
SUMMARY:SDAF Design Film Series
DESCRIPTION:SDAF’s quarterly film series showcases outstanding architecture and design documentaries from around the world\, giving members and the public a chance to discover new perspectives and revisit celebrated favorites. With “design” as the unifying thread\, the program spans an eclectic range of topics—from green living concepts to explorations of furniture making\, interiors\, food\, photography\, landscape architecture\, material sourcing\, and even airstream trailer design. The screenings offer a relaxed\, creative environment where attendees can sketch\, socialize\, and immerse themselves in fresh ideas that expand their sense of what design can be. \nCheck back for more details once closer to the event.
URL:https://sdarchitecture.org/event/sdaf-design-film-series-sept-2026/
CATEGORIES:Film Series
ATTACH;FMTTYPE=image/png:https://sdarchitecture.org/wp-content/uploads/SD-Design-Film-Series-Red.png
END:VEVENT
END:VCALENDAR